BEGIN:VCALENDAR
VERSION:2.0
PRODID:-//Tukios.com/
BEGIN:VEVENT
UID:153dfa23-38fb-4652-ac2e-b056247e0ebd@www.mundwilerfuneralhome.net
DTSTAMP:20260421T221410Z
DTSTART:20260427T183000Z
DTEND:20260427T193000Z
SUMMARY:Funeral Service
DESCRIPTION:
URL:https://www.mundwilerfuneralhome.net/obituaries/shirley-kindt
LOCATION: 101 Northridge Ave  Milbank SD 57252
GEO:45.2328309;-96.6399593
END:VEVENT
END:VCALENDAR