BEGIN:VCALENDAR
VERSION:2.0
PRODID:-//Tukios.com/
BEGIN:VEVENT
UID:fa372f20-13ad-45cc-9415-2b984348c860@www.mundwilerfuneralhome.net
DTSTAMP:20260421T222148Z
DTSTART:20260427T000000Z
DTEND:20260427T010000Z
SUMMARY:Prayer Service
DESCRIPTION:
URL:https://www.mundwilerfuneralhome.net/obituaries/shirley-kindt
LOCATION: 401 NW 2nd Street  Ortonville MN 56278
GEO:45.3014156;-96.4419543
END:VEVENT
END:VCALENDAR