BEGIN:VCALENDAR
VERSION:2.0
PRODID:-//Tukios.com/
BEGIN:VEVENT
UID:ea05ea26-5834-4b66-b347-39abb062b0d0@www.mundwilerfuneralhome.net
DTSTAMP:20260421T221333Z
DTSTART:20260426T220000Z
DTEND:20260427T000000Z
SUMMARY:Visitation
DESCRIPTION:
URL:https://www.mundwilerfuneralhome.net/obituaries/shirley-kindt
LOCATION: 401 NW 2nd Street  Ortonville MN 56278
GEO:45.3014156;-96.4419543
END:VEVENT
END:VCALENDAR